BEGIN:VCALENDAR
VERSION:2.0
PRODID:-//Musikverein Kirrlach 1906 e.V. - ECPv5.7.0//NONSGML v1.0//EN
CALSCALE:GREGORIAN
METHOD:PUBLISH
X-WR-CALNAME:Musikverein Kirrlach 1906 e.V.
X-ORIGINAL-URL:https://musikverein-kirrlach.de
X-WR-CALDESC:Veranstaltungen für Musikverein Kirrlach 1906 e.V.
BEGIN:VTIMEZONE
TZID:Europe/Berlin
BEGIN:DAYLIGHT
TZOFFSETFROM:+0100
TZOFFSETTO:+0200
TZNAME:CEST
DTSTART:20180325T010000
END:DAYLIGHT
BEGIN:STANDARD
TZOFFSETFROM:+0200
TZOFFSETTO:+0100
TZNAME:CET
DTSTART:20181028T010000
END:STANDARD
END:VTIMEZONE
BEGIN:VEVENT
DTSTART;VALUE=DATE:20180513
DTEND;VALUE=DATE:20180514
DTSTAMP:20260420T103323
CREATED:20180109T123800Z
LAST-MODIFIED:20180111T185712Z
UID:139-1526169600-1526255999@musikverein-kirrlach.de
SUMMARY:Bezirksmusikfest
DESCRIPTION:
URL:https://musikverein-kirrlach.de/event/bezirksmusikfest/
LOCATION:Lußhardthalle Hambrücken\, Pfarrer-Graf-Straße 6\, Hambrücken\, 76707
CATEGORIES:Event
ORGANIZER;CN="Musikverein%20Hambr%C3%BCcken":MAILTO:mvh@mvh1878.de
END:VEVENT
END:VCALENDAR